BEGIN:VCALENDAR
VERSION:2.0
PRODID:-//Otsego Outdoors - ECPv6.15.20//NONSGML v1.0//EN
CALSCALE:GREGORIAN
METHOD:PUBLISH
X-WR-CALNAME:Otsego Outdoors
X-ORIGINAL-URL:https://otsegooutdoors.org
X-WR-CALDESC:Events for Otsego Outdoors
REFRESH-INTERVAL;VALUE=DURATION:PT1H
X-Robots-Tag:noindex
X-PUBLISHED-TTL:PT1H
BEGIN:VTIMEZONE
TZID:America/New_York
BEGIN:DAYLIGHT
TZOFFSETFROM:-0500
TZOFFSETTO:-0400
TZNAME:EDT
DTSTART:20250309T070000
END:DAYLIGHT
BEGIN:STANDARD
TZOFFSETFROM:-0400
TZOFFSETTO:-0500
TZNAME:EST
DTSTART:20251102T060000
END:STANDARD
BEGIN:DAYLIGHT
TZOFFSETFROM:-0500
TZOFFSETTO:-0400
TZNAME:EDT
DTSTART:20260308T070000
END:DAYLIGHT
BEGIN:STANDARD
TZOFFSETFROM:-0400
TZOFFSETTO:-0500
TZNAME:EST
DTSTART:20261101T060000
END:STANDARD
BEGIN:DAYLIGHT
TZOFFSETFROM:-0500
TZOFFSETTO:-0400
TZNAME:EDT
DTSTART:20270314T070000
END:DAYLIGHT
BEGIN:STANDARD
TZOFFSETFROM:-0400
TZOFFSETTO:-0500
TZNAME:EST
DTSTART:20271107T060000
END:STANDARD
END:VTIMEZONE
BEGIN:VEVENT
DTSTART;TZID=America/New_York:20260424T180000
DTEND;TZID=America/New_York:20260424T193000
DTSTAMP:20260424T021858
CREATED:20260401T204056Z
LAST-MODIFIED:20260401T204056Z
UID:5932-1777053600-1777059000@otsegooutdoors.org
SUMMARY:Guided Herp Walk
DESCRIPTION:Join us at Wilber Lake on April 24th at 6pm for a guided Herp Walk to learn more about the world of amphibians. We will be meeting at the entrance on Wilber Lake Road\, located on the west side of the lake. This walk will be led by OCCA Field Technician Victoria Prouty and Dr. Elizabeth Bastiaans of SUNY Oneonta. \nAs we welcome spring’s warm\, rainy weather\, amphibians such as wood frogs and spotted salamanders begin their migration to vernal pools\, temporary pools fed by snowmelt and rain. They use these vernal pools to breed before heading back into the forest for the remainder of the year. We will explore the trail and visit nearby vernal pools\, where you will have the chance to observe and learn how to identify these fascinating species\, their egg masses\, and tadpoles. You may also see some forest-dwelling and lake-dwelling species\, such as red-backed salamanders and green frogs. \nThis experience highlights the vital role that these temporary pools play in wooded ecosystems and offers a unique opportunity to learn about amphibian life cycles and preferred habitats. Perfect for nature lovers of all ages\, this walk combines exploration\, education\, and a deeper appreciation for the wildlife that thrives right in our backyard. \nSign up at occainfo.org 
URL:https://otsegooutdoors.org/event/guided-herp-walk/
LOCATION:Wilber Lake\, Oneonta Creek Trails\, Wilber Lake Rd\, Oneonta\, NY\, 13820\, United States
ATTACH;FMTTYPE=image/jpeg:https://otsegooutdoors.org/wp-content/uploads/2024/12/SalamanderonleafphotobyBethanyFall2020-Copy.jpeg
ORGANIZER;CN="Otsego County Conservation Association":MAILTO:coordinator@occainfo.org
END:VEVENT
END:VCALENDAR